BEGIN:VCALENDAR
VERSION:2.0
PRODID:-//Socialite Friendship Society - ECPv6.15.20//NONSGML v1.0//EN
CALSCALE:GREGORIAN
METHOD:PUBLISH
X-ORIGINAL-URL:https://socialitefriendships.com
X-WR-CALDESC:Events for Socialite Friendship Society
REFRESH-INTERVAL;VALUE=DURATION:PT1H
X-Robots-Tag:noindex
X-PUBLISHED-TTL:PT1H
BEGIN:VTIMEZONE
TZID:UTC
BEGIN:STANDARD
TZOFFSETFROM:+0000
TZOFFSETTO:+0000
TZNAME:UTC
DTSTART:20290101T000000
END:STANDARD
END:VTIMEZONE
BEGIN:VEVENT
DTSTART;TZID=UTC:20300222T183000
DTEND;TZID=UTC:20300222T213000
DTSTAMP:20260420T042006
CREATED:20260221T143821Z
LAST-MODIFIED:20260221T143821Z
UID:10000104-1898015400-1898026200@socialitefriendships.com
SUMMARY:Socialites Social Club
DESCRIPTION:2026 SF Flyer a
URL:https://socialitefriendships.com/event-single/socialites-social-club/2030-02-22/
LOCATION:Pepys Community Hub\, Deptford Royal Dockyard\, Forshore\, London\, Greater London\, SE8 3BA\, United Kingdom
END:VEVENT
BEGIN:VEVENT
DTSTART;TZID=UTC:20300308T183000
DTEND;TZID=UTC:20300308T213000
DTSTAMP:20260420T042006
CREATED:20260221T143821Z
LAST-MODIFIED:20260221T143821Z
UID:10000105-1899225000-1899235800@socialitefriendships.com
SUMMARY:Socialites Social Club
DESCRIPTION:2026 SF Flyer a
URL:https://socialitefriendships.com/event-single/socialites-social-club/2030-03-08/
LOCATION:Pepys Community Hub\, Deptford Royal Dockyard\, Forshore\, London\, Greater London\, SE8 3BA\, United Kingdom
END:VEVENT
BEGIN:VEVENT
DTSTART;TZID=UTC:20300322T183000
DTEND;TZID=UTC:20300322T213000
DTSTAMP:20260420T042006
CREATED:20260221T143821Z
LAST-MODIFIED:20260221T143821Z
UID:10000106-1900434600-1900445400@socialitefriendships.com
SUMMARY:Socialites Social Club
DESCRIPTION:2026 SF Flyer a
URL:https://socialitefriendships.com/event-single/socialites-social-club/2030-03-22/
LOCATION:Pepys Community Hub\, Deptford Royal Dockyard\, Forshore\, London\, Greater London\, SE8 3BA\, United Kingdom
END:VEVENT
BEGIN:VEVENT
DTSTART;TZID=UTC:20300405T183000
DTEND;TZID=UTC:20300405T213000
DTSTAMP:20260420T042006
CREATED:20260221T143821Z
LAST-MODIFIED:20260221T143821Z
UID:10000107-1901644200-1901655000@socialitefriendships.com
SUMMARY:Socialites Social Club
DESCRIPTION:2026 SF Flyer a
URL:https://socialitefriendships.com/event-single/socialites-social-club/2030-04-05/
LOCATION:Pepys Community Hub\, Deptford Royal Dockyard\, Forshore\, London\, Greater London\, SE8 3BA\, United Kingdom
END:VEVENT
BEGIN:VEVENT
DTSTART;TZID=UTC:20300419T183000
DTEND;TZID=UTC:20300419T213000
DTSTAMP:20260420T042006
CREATED:20260221T143821Z
LAST-MODIFIED:20260221T143821Z
UID:10000108-1902853800-1902864600@socialitefriendships.com
SUMMARY:Socialites Social Club
DESCRIPTION:2026 SF Flyer a
URL:https://socialitefriendships.com/event-single/socialites-social-club/2030-04-19/
LOCATION:Pepys Community Hub\, Deptford Royal Dockyard\, Forshore\, London\, Greater London\, SE8 3BA\, United Kingdom
END:VEVENT
BEGIN:VEVENT
DTSTART;TZID=UTC:20300503T183000
DTEND;TZID=UTC:20300503T213000
DTSTAMP:20260420T042006
CREATED:20260221T143821Z
LAST-MODIFIED:20260221T143821Z
UID:10000109-1904063400-1904074200@socialitefriendships.com
SUMMARY:Socialites Social Club
DESCRIPTION:2026 SF Flyer a
URL:https://socialitefriendships.com/event-single/socialites-social-club/2030-05-03/
LOCATION:Pepys Community Hub\, Deptford Royal Dockyard\, Forshore\, London\, Greater London\, SE8 3BA\, United Kingdom
END:VEVENT
BEGIN:VEVENT
DTSTART;TZID=UTC:20300517T183000
DTEND;TZID=UTC:20300517T213000
DTSTAMP:20260420T042006
CREATED:20260221T143821Z
LAST-MODIFIED:20260221T143821Z
UID:10000110-1905273000-1905283800@socialitefriendships.com
SUMMARY:Socialites Social Club
DESCRIPTION:2026 SF Flyer a
URL:https://socialitefriendships.com/event-single/socialites-social-club/2030-05-17/
LOCATION:Pepys Community Hub\, Deptford Royal Dockyard\, Forshore\, London\, Greater London\, SE8 3BA\, United Kingdom
END:VEVENT
BEGIN:VEVENT
DTSTART;TZID=UTC:20300531T183000
DTEND;TZID=UTC:20300531T213000
DTSTAMP:20260420T042006
CREATED:20260221T143821Z
LAST-MODIFIED:20260221T143821Z
UID:10000111-1906482600-1906493400@socialitefriendships.com
SUMMARY:Socialites Social Club
DESCRIPTION:2026 SF Flyer a
URL:https://socialitefriendships.com/event-single/socialites-social-club/2030-05-31/
LOCATION:Pepys Community Hub\, Deptford Royal Dockyard\, Forshore\, London\, Greater London\, SE8 3BA\, United Kingdom
END:VEVENT
BEGIN:VEVENT
DTSTART;TZID=UTC:20300614T183000
DTEND;TZID=UTC:20300614T213000
DTSTAMP:20260420T042006
CREATED:20260221T143821Z
LAST-MODIFIED:20260221T143821Z
UID:10000112-1907692200-1907703000@socialitefriendships.com
SUMMARY:Socialites Social Club
DESCRIPTION:2026 SF Flyer a
URL:https://socialitefriendships.com/event-single/socialites-social-club/2030-06-14/
LOCATION:Pepys Community Hub\, Deptford Royal Dockyard\, Forshore\, London\, Greater London\, SE8 3BA\, United Kingdom
END:VEVENT
BEGIN:VEVENT
DTSTART;TZID=UTC:20300628T183000
DTEND;TZID=UTC:20300628T213000
DTSTAMP:20260420T042006
CREATED:20260221T143821Z
LAST-MODIFIED:20260221T143821Z
UID:10000113-1908901800-1908912600@socialitefriendships.com
SUMMARY:Socialites Social Club
DESCRIPTION:2026 SF Flyer a
URL:https://socialitefriendships.com/event-single/socialites-social-club/2030-06-28/
LOCATION:Pepys Community Hub\, Deptford Royal Dockyard\, Forshore\, London\, Greater London\, SE8 3BA\, United Kingdom
END:VEVENT
BEGIN:VEVENT
DTSTART;TZID=UTC:20300712T183000
DTEND;TZID=UTC:20300712T213000
DTSTAMP:20260420T042006
CREATED:20260221T143821Z
LAST-MODIFIED:20260221T143821Z
UID:10000114-1910111400-1910122200@socialitefriendships.com
SUMMARY:Socialites Social Club
DESCRIPTION:2026 SF Flyer a
URL:https://socialitefriendships.com/event-single/socialites-social-club/2030-07-12/
LOCATION:Pepys Community Hub\, Deptford Royal Dockyard\, Forshore\, London\, Greater London\, SE8 3BA\, United Kingdom
END:VEVENT
BEGIN:VEVENT
DTSTART;TZID=UTC:20300726T183000
DTEND;TZID=UTC:20300726T213000
DTSTAMP:20260420T042006
CREATED:20260221T143821Z
LAST-MODIFIED:20260221T143821Z
UID:10000115-1911321000-1911331800@socialitefriendships.com
SUMMARY:Socialites Social Club
DESCRIPTION:2026 SF Flyer a
URL:https://socialitefriendships.com/event-single/socialites-social-club/2030-07-26/
LOCATION:Pepys Community Hub\, Deptford Royal Dockyard\, Forshore\, London\, Greater London\, SE8 3BA\, United Kingdom
END:VEVENT
BEGIN:VEVENT
DTSTART;TZID=UTC:20300809T183000
DTEND;TZID=UTC:20300809T213000
DTSTAMP:20260420T042006
CREATED:20260221T143821Z
LAST-MODIFIED:20260221T143821Z
UID:10000116-1912530600-1912541400@socialitefriendships.com
SUMMARY:Socialites Social Club
DESCRIPTION:2026 SF Flyer a
URL:https://socialitefriendships.com/event-single/socialites-social-club/2030-08-09/
LOCATION:Pepys Community Hub\, Deptford Royal Dockyard\, Forshore\, London\, Greater London\, SE8 3BA\, United Kingdom
END:VEVENT
BEGIN:VEVENT
DTSTART;TZID=UTC:20300823T183000
DTEND;TZID=UTC:20300823T213000
DTSTAMP:20260420T042006
CREATED:20260221T143821Z
LAST-MODIFIED:20260221T143821Z
UID:10000117-1913740200-1913751000@socialitefriendships.com
SUMMARY:Socialites Social Club
DESCRIPTION:2026 SF Flyer a
URL:https://socialitefriendships.com/event-single/socialites-social-club/2030-08-23/
LOCATION:Pepys Community Hub\, Deptford Royal Dockyard\, Forshore\, London\, Greater London\, SE8 3BA\, United Kingdom
END:VEVENT
BEGIN:VEVENT
DTSTART;TZID=UTC:20300906T183000
DTEND;TZID=UTC:20300906T213000
DTSTAMP:20260420T042006
CREATED:20260221T143821Z
LAST-MODIFIED:20260221T143821Z
UID:10000118-1914949800-1914960600@socialitefriendships.com
SUMMARY:Socialites Social Club
DESCRIPTION:2026 SF Flyer a
URL:https://socialitefriendships.com/event-single/socialites-social-club/2030-09-06/
LOCATION:Pepys Community Hub\, Deptford Royal Dockyard\, Forshore\, London\, Greater London\, SE8 3BA\, United Kingdom
END:VEVENT
BEGIN:VEVENT
DTSTART;TZID=UTC:20300920T183000
DTEND;TZID=UTC:20300920T213000
DTSTAMP:20260420T042006
CREATED:20260221T143821Z
LAST-MODIFIED:20260221T143821Z
UID:10000119-1916159400-1916170200@socialitefriendships.com
SUMMARY:Socialites Social Club
DESCRIPTION:2026 SF Flyer a
URL:https://socialitefriendships.com/event-single/socialites-social-club/2030-09-20/
LOCATION:Pepys Community Hub\, Deptford Royal Dockyard\, Forshore\, London\, Greater London\, SE8 3BA\, United Kingdom
END:VEVENT
BEGIN:VEVENT
DTSTART;TZID=UTC:20301004T183000
DTEND;TZID=UTC:20301004T213000
DTSTAMP:20260420T042006
CREATED:20260221T143821Z
LAST-MODIFIED:20260221T143821Z
UID:10000120-1917369000-1917379800@socialitefriendships.com
SUMMARY:Socialites Social Club
DESCRIPTION:2026 SF Flyer a
URL:https://socialitefriendships.com/event-single/socialites-social-club/2030-10-04/
LOCATION:Pepys Community Hub\, Deptford Royal Dockyard\, Forshore\, London\, Greater London\, SE8 3BA\, United Kingdom
END:VEVENT
BEGIN:VEVENT
DTSTART;TZID=UTC:20301018T183000
DTEND;TZID=UTC:20301018T213000
DTSTAMP:20260420T042006
CREATED:20260221T143821Z
LAST-MODIFIED:20260221T143821Z
UID:10000121-1918578600-1918589400@socialitefriendships.com
SUMMARY:Socialites Social Club
DESCRIPTION:2026 SF Flyer a
URL:https://socialitefriendships.com/event-single/socialites-social-club/2030-10-18/
LOCATION:Pepys Community Hub\, Deptford Royal Dockyard\, Forshore\, London\, Greater London\, SE8 3BA\, United Kingdom
END:VEVENT
BEGIN:VEVENT
DTSTART;TZID=UTC:20301101T183000
DTEND;TZID=UTC:20301101T213000
DTSTAMP:20260420T042006
CREATED:20260221T143821Z
LAST-MODIFIED:20260221T143821Z
UID:10000122-1919788200-1919799000@socialitefriendships.com
SUMMARY:Socialites Social Club
DESCRIPTION:2026 SF Flyer a
URL:https://socialitefriendships.com/event-single/socialites-social-club/2030-11-01/
LOCATION:Pepys Community Hub\, Deptford Royal Dockyard\, Forshore\, London\, Greater London\, SE8 3BA\, United Kingdom
END:VEVENT
BEGIN:VEVENT
DTSTART;TZID=UTC:20301115T183000
DTEND;TZID=UTC:20301115T213000
DTSTAMP:20260420T042006
CREATED:20260221T143821Z
LAST-MODIFIED:20260221T143821Z
UID:10000123-1920997800-1921008600@socialitefriendships.com
SUMMARY:Socialites Social Club
DESCRIPTION:2026 SF Flyer a
URL:https://socialitefriendships.com/event-single/socialites-social-club/2030-11-15/
LOCATION:Pepys Community Hub\, Deptford Royal Dockyard\, Forshore\, London\, Greater London\, SE8 3BA\, United Kingdom
END:VEVENT
BEGIN:VEVENT
DTSTART;TZID=UTC:20301129T183000
DTEND;TZID=UTC:20301129T213000
DTSTAMP:20260420T042006
CREATED:20260221T143821Z
LAST-MODIFIED:20260221T143821Z
UID:10000124-1922207400-1922218200@socialitefriendships.com
SUMMARY:Socialites Social Club
DESCRIPTION:2026 SF Flyer a
URL:https://socialitefriendships.com/event-single/socialites-social-club/2030-11-29/
LOCATION:Pepys Community Hub\, Deptford Royal Dockyard\, Forshore\, London\, Greater London\, SE8 3BA\, United Kingdom
END:VEVENT
BEGIN:VEVENT
DTSTART;TZID=UTC:20301213T183000
DTEND;TZID=UTC:20301213T213000
DTSTAMP:20260420T042006
CREATED:20260221T143821Z
LAST-MODIFIED:20260221T143821Z
UID:10000125-1923417000-1923427800@socialitefriendships.com
SUMMARY:Socialites Social Club
DESCRIPTION:2026 SF Flyer a
URL:https://socialitefriendships.com/event-single/socialites-social-club/2030-12-13/
LOCATION:Pepys Community Hub\, Deptford Royal Dockyard\, Forshore\, London\, Greater London\, SE8 3BA\, United Kingdom
END:VEVENT
BEGIN:VEVENT
DTSTART;TZID=UTC:20301227T183000
DTEND;TZID=UTC:20301227T213000
DTSTAMP:20260420T042006
CREATED:20260221T143821Z
LAST-MODIFIED:20260221T143821Z
UID:10000126-1924626600-1924637400@socialitefriendships.com
SUMMARY:Socialites Social Club
DESCRIPTION:2026 SF Flyer a
URL:https://socialitefriendships.com/event-single/socialites-social-club/2030-12-27/
LOCATION:Pepys Community Hub\, Deptford Royal Dockyard\, Forshore\, London\, Greater London\, SE8 3BA\, United Kingdom
END:VEVENT
BEGIN:VEVENT
DTSTART;TZID=UTC:20310110T183000
DTEND;TZID=UTC:20310110T213000
DTSTAMP:20260420T042006
CREATED:20260221T143821Z
LAST-MODIFIED:20260221T143821Z
UID:10000127-1925836200-1925847000@socialitefriendships.com
SUMMARY:Socialites Social Club
DESCRIPTION:2026 SF Flyer a
URL:https://socialitefriendships.com/event-single/socialites-social-club/2031-01-10/
LOCATION:Pepys Community Hub\, Deptford Royal Dockyard\, Forshore\, London\, Greater London\, SE8 3BA\, United Kingdom
END:VEVENT
BEGIN:VEVENT
DTSTART;TZID=UTC:20310124T183000
DTEND;TZID=UTC:20310124T213000
DTSTAMP:20260420T042006
CREATED:20260221T143821Z
LAST-MODIFIED:20260221T143821Z
UID:10000128-1927045800-1927056600@socialitefriendships.com
SUMMARY:Socialites Social Club
DESCRIPTION:2026 SF Flyer a
URL:https://socialitefriendships.com/event-single/socialites-social-club/2031-01-24/
LOCATION:Pepys Community Hub\, Deptford Royal Dockyard\, Forshore\, London\, Greater London\, SE8 3BA\, United Kingdom
END:VEVENT
BEGIN:VEVENT
DTSTART;TZID=UTC:20310207T183000
DTEND;TZID=UTC:20310207T213000
DTSTAMP:20260420T042006
CREATED:20260221T143821Z
LAST-MODIFIED:20260221T143821Z
UID:10000129-1928255400-1928266200@socialitefriendships.com
SUMMARY:Socialites Social Club
DESCRIPTION:2026 SF Flyer a
URL:https://socialitefriendships.com/event-single/socialites-social-club/2031-02-07/
LOCATION:Pepys Community Hub\, Deptford Royal Dockyard\, Forshore\, London\, Greater London\, SE8 3BA\, United Kingdom
END:VEVENT
BEGIN:VEVENT
DTSTART;TZID=UTC:20310221T183000
DTEND;TZID=UTC:20310221T213000
DTSTAMP:20260420T042006
CREATED:20260221T143821Z
LAST-MODIFIED:20260221T143821Z
UID:10000130-1929465000-1929475800@socialitefriendships.com
SUMMARY:Socialites Social Club
DESCRIPTION:2026 SF Flyer a
URL:https://socialitefriendships.com/event-single/socialites-social-club/2031-02-21/
LOCATION:Pepys Community Hub\, Deptford Royal Dockyard\, Forshore\, London\, Greater London\, SE8 3BA\, United Kingdom
END:VEVENT
END:VCALENDAR