BEGIN:VCALENDAR
VERSION:2.0
PRODID:-//Socialite Friendship Society - ECPv6.15.20//NONSGML v1.0//EN
CALSCALE:GREGORIAN
METHOD:PUBLISH
X-WR-CALNAME:Socialite Friendship Society
X-ORIGINAL-URL:https://socialitefriendships.com
X-WR-CALDESC:Events for Socialite Friendship Society
REFRESH-INTERVAL;VALUE=DURATION:PT1H
X-Robots-Tag:noindex
X-PUBLISHED-TTL:PT1H
BEGIN:VTIMEZONE
TZID:UTC
BEGIN:STANDARD
TZOFFSETFROM:+0000
TZOFFSETTO:+0000
TZNAME:UTC
DTSTART:20270101T000000
END:STANDARD
END:VTIMEZONE
BEGIN:VEVENT
DTSTART;TZID=UTC:20280811T183000
DTEND;TZID=UTC:20280811T213000
DTSTAMP:20260420T031055
CREATED:20260221T143821Z
LAST-MODIFIED:20260221T143821Z
UID:10000064-1849631400-1849642200@socialitefriendships.com
SUMMARY:Socialites Social Club
DESCRIPTION:2026 SF Flyer a
URL:https://socialitefriendships.com/event-single/socialites-social-club/2028-08-11/
LOCATION:Pepys Community Hub\, Deptford Royal Dockyard\, Forshore\, London\, Greater London\, SE8 3BA\, United Kingdom
END:VEVENT
BEGIN:VEVENT
DTSTART;TZID=UTC:20280825T183000
DTEND;TZID=UTC:20280825T213000
DTSTAMP:20260420T031055
CREATED:20260221T143821Z
LAST-MODIFIED:20260221T143821Z
UID:10000065-1850841000-1850851800@socialitefriendships.com
SUMMARY:Socialites Social Club
DESCRIPTION:2026 SF Flyer a
URL:https://socialitefriendships.com/event-single/socialites-social-club/2028-08-25/
LOCATION:Pepys Community Hub\, Deptford Royal Dockyard\, Forshore\, London\, Greater London\, SE8 3BA\, United Kingdom
END:VEVENT
BEGIN:VEVENT
DTSTART;TZID=UTC:20280908T183000
DTEND;TZID=UTC:20280908T213000
DTSTAMP:20260420T031055
CREATED:20260221T143821Z
LAST-MODIFIED:20260221T143821Z
UID:10000066-1852050600-1852061400@socialitefriendships.com
SUMMARY:Socialites Social Club
DESCRIPTION:2026 SF Flyer a
URL:https://socialitefriendships.com/event-single/socialites-social-club/2028-09-08/
LOCATION:Pepys Community Hub\, Deptford Royal Dockyard\, Forshore\, London\, Greater London\, SE8 3BA\, United Kingdom
END:VEVENT
BEGIN:VEVENT
DTSTART;TZID=UTC:20280922T183000
DTEND;TZID=UTC:20280922T213000
DTSTAMP:20260420T031055
CREATED:20260221T143821Z
LAST-MODIFIED:20260221T143821Z
UID:10000067-1853260200-1853271000@socialitefriendships.com
SUMMARY:Socialites Social Club
DESCRIPTION:2026 SF Flyer a
URL:https://socialitefriendships.com/event-single/socialites-social-club/2028-09-22/
LOCATION:Pepys Community Hub\, Deptford Royal Dockyard\, Forshore\, London\, Greater London\, SE8 3BA\, United Kingdom
END:VEVENT
BEGIN:VEVENT
DTSTART;TZID=UTC:20281006T183000
DTEND;TZID=UTC:20281006T213000
DTSTAMP:20260420T031055
CREATED:20260221T143821Z
LAST-MODIFIED:20260221T143821Z
UID:10000068-1854469800-1854480600@socialitefriendships.com
SUMMARY:Socialites Social Club
DESCRIPTION:2026 SF Flyer a
URL:https://socialitefriendships.com/event-single/socialites-social-club/2028-10-06/
LOCATION:Pepys Community Hub\, Deptford Royal Dockyard\, Forshore\, London\, Greater London\, SE8 3BA\, United Kingdom
END:VEVENT
BEGIN:VEVENT
DTSTART;TZID=UTC:20281020T183000
DTEND;TZID=UTC:20281020T213000
DTSTAMP:20260420T031055
CREATED:20260221T143821Z
LAST-MODIFIED:20260221T143821Z
UID:10000069-1855679400-1855690200@socialitefriendships.com
SUMMARY:Socialites Social Club
DESCRIPTION:2026 SF Flyer a
URL:https://socialitefriendships.com/event-single/socialites-social-club/2028-10-20/
LOCATION:Pepys Community Hub\, Deptford Royal Dockyard\, Forshore\, London\, Greater London\, SE8 3BA\, United Kingdom
END:VEVENT
BEGIN:VEVENT
DTSTART;TZID=UTC:20281103T183000
DTEND;TZID=UTC:20281103T213000
DTSTAMP:20260420T031055
CREATED:20260221T143821Z
LAST-MODIFIED:20260221T143821Z
UID:10000070-1856889000-1856899800@socialitefriendships.com
SUMMARY:Socialites Social Club
DESCRIPTION:2026 SF Flyer a
URL:https://socialitefriendships.com/event-single/socialites-social-club/2028-11-03/
LOCATION:Pepys Community Hub\, Deptford Royal Dockyard\, Forshore\, London\, Greater London\, SE8 3BA\, United Kingdom
END:VEVENT
BEGIN:VEVENT
DTSTART;TZID=UTC:20281117T183000
DTEND;TZID=UTC:20281117T213000
DTSTAMP:20260420T031055
CREATED:20260221T143821Z
LAST-MODIFIED:20260221T143821Z
UID:10000071-1858098600-1858109400@socialitefriendships.com
SUMMARY:Socialites Social Club
DESCRIPTION:2026 SF Flyer a
URL:https://socialitefriendships.com/event-single/socialites-social-club/2028-11-17/
LOCATION:Pepys Community Hub\, Deptford Royal Dockyard\, Forshore\, London\, Greater London\, SE8 3BA\, United Kingdom
END:VEVENT
BEGIN:VEVENT
DTSTART;TZID=UTC:20281201T183000
DTEND;TZID=UTC:20281201T213000
DTSTAMP:20260420T031055
CREATED:20260221T143821Z
LAST-MODIFIED:20260221T143821Z
UID:10000072-1859308200-1859319000@socialitefriendships.com
SUMMARY:Socialites Social Club
DESCRIPTION:2026 SF Flyer a
URL:https://socialitefriendships.com/event-single/socialites-social-club/2028-12-01/
LOCATION:Pepys Community Hub\, Deptford Royal Dockyard\, Forshore\, London\, Greater London\, SE8 3BA\, United Kingdom
END:VEVENT
BEGIN:VEVENT
DTSTART;TZID=UTC:20281215T183000
DTEND;TZID=UTC:20281215T213000
DTSTAMP:20260420T031055
CREATED:20260221T143821Z
LAST-MODIFIED:20260221T143821Z
UID:10000073-1860517800-1860528600@socialitefriendships.com
SUMMARY:Socialites Social Club
DESCRIPTION:2026 SF Flyer a
URL:https://socialitefriendships.com/event-single/socialites-social-club/2028-12-15/
LOCATION:Pepys Community Hub\, Deptford Royal Dockyard\, Forshore\, London\, Greater London\, SE8 3BA\, United Kingdom
END:VEVENT
BEGIN:VEVENT
DTSTART;TZID=UTC:20281229T183000
DTEND;TZID=UTC:20281229T213000
DTSTAMP:20260420T031055
CREATED:20260221T143821Z
LAST-MODIFIED:20260221T143821Z
UID:10000074-1861727400-1861738200@socialitefriendships.com
SUMMARY:Socialites Social Club
DESCRIPTION:2026 SF Flyer a
URL:https://socialitefriendships.com/event-single/socialites-social-club/2028-12-29/
LOCATION:Pepys Community Hub\, Deptford Royal Dockyard\, Forshore\, London\, Greater London\, SE8 3BA\, United Kingdom
END:VEVENT
BEGIN:VEVENT
DTSTART;TZID=UTC:20290112T183000
DTEND;TZID=UTC:20290112T213000
DTSTAMP:20260420T031055
CREATED:20260221T143821Z
LAST-MODIFIED:20260221T143821Z
UID:10000075-1862937000-1862947800@socialitefriendships.com
SUMMARY:Socialites Social Club
DESCRIPTION:2026 SF Flyer a
URL:https://socialitefriendships.com/event-single/socialites-social-club/2029-01-12/
LOCATION:Pepys Community Hub\, Deptford Royal Dockyard\, Forshore\, London\, Greater London\, SE8 3BA\, United Kingdom
END:VEVENT
BEGIN:VEVENT
DTSTART;TZID=UTC:20290126T183000
DTEND;TZID=UTC:20290126T213000
DTSTAMP:20260420T031055
CREATED:20260221T143821Z
LAST-MODIFIED:20260221T143821Z
UID:10000076-1864146600-1864157400@socialitefriendships.com
SUMMARY:Socialites Social Club
DESCRIPTION:2026 SF Flyer a
URL:https://socialitefriendships.com/event-single/socialites-social-club/2029-01-26/
LOCATION:Pepys Community Hub\, Deptford Royal Dockyard\, Forshore\, London\, Greater London\, SE8 3BA\, United Kingdom
END:VEVENT
BEGIN:VEVENT
DTSTART;TZID=UTC:20290209T183000
DTEND;TZID=UTC:20290209T213000
DTSTAMP:20260420T031055
CREATED:20260221T143821Z
LAST-MODIFIED:20260221T143821Z
UID:10000077-1865356200-1865367000@socialitefriendships.com
SUMMARY:Socialites Social Club
DESCRIPTION:2026 SF Flyer a
URL:https://socialitefriendships.com/event-single/socialites-social-club/2029-02-09/
LOCATION:Pepys Community Hub\, Deptford Royal Dockyard\, Forshore\, London\, Greater London\, SE8 3BA\, United Kingdom
END:VEVENT
BEGIN:VEVENT
DTSTART;TZID=UTC:20290223T183000
DTEND;TZID=UTC:20290223T213000
DTSTAMP:20260420T031055
CREATED:20260221T143821Z
LAST-MODIFIED:20260221T143821Z
UID:10000078-1866565800-1866576600@socialitefriendships.com
SUMMARY:Socialites Social Club
DESCRIPTION:2026 SF Flyer a
URL:https://socialitefriendships.com/event-single/socialites-social-club/2029-02-23/
LOCATION:Pepys Community Hub\, Deptford Royal Dockyard\, Forshore\, London\, Greater London\, SE8 3BA\, United Kingdom
END:VEVENT
BEGIN:VEVENT
DTSTART;TZID=UTC:20290309T183000
DTEND;TZID=UTC:20290309T213000
DTSTAMP:20260420T031055
CREATED:20260221T143821Z
LAST-MODIFIED:20260221T143821Z
UID:10000079-1867775400-1867786200@socialitefriendships.com
SUMMARY:Socialites Social Club
DESCRIPTION:2026 SF Flyer a
URL:https://socialitefriendships.com/event-single/socialites-social-club/2029-03-09/
LOCATION:Pepys Community Hub\, Deptford Royal Dockyard\, Forshore\, London\, Greater London\, SE8 3BA\, United Kingdom
END:VEVENT
BEGIN:VEVENT
DTSTART;TZID=UTC:20290323T183000
DTEND;TZID=UTC:20290323T213000
DTSTAMP:20260420T031055
CREATED:20260221T143821Z
LAST-MODIFIED:20260221T143821Z
UID:10000080-1868985000-1868995800@socialitefriendships.com
SUMMARY:Socialites Social Club
DESCRIPTION:2026 SF Flyer a
URL:https://socialitefriendships.com/event-single/socialites-social-club/2029-03-23/
LOCATION:Pepys Community Hub\, Deptford Royal Dockyard\, Forshore\, London\, Greater London\, SE8 3BA\, United Kingdom
END:VEVENT
BEGIN:VEVENT
DTSTART;TZID=UTC:20290406T183000
DTEND;TZID=UTC:20290406T213000
DTSTAMP:20260420T031055
CREATED:20260221T143821Z
LAST-MODIFIED:20260221T143821Z
UID:10000081-1870194600-1870205400@socialitefriendships.com
SUMMARY:Socialites Social Club
DESCRIPTION:2026 SF Flyer a
URL:https://socialitefriendships.com/event-single/socialites-social-club/2029-04-06/
LOCATION:Pepys Community Hub\, Deptford Royal Dockyard\, Forshore\, London\, Greater London\, SE8 3BA\, United Kingdom
END:VEVENT
BEGIN:VEVENT
DTSTART;TZID=UTC:20290420T183000
DTEND;TZID=UTC:20290420T213000
DTSTAMP:20260420T031055
CREATED:20260221T143821Z
LAST-MODIFIED:20260221T143821Z
UID:10000082-1871404200-1871415000@socialitefriendships.com
SUMMARY:Socialites Social Club
DESCRIPTION:2026 SF Flyer a
URL:https://socialitefriendships.com/event-single/socialites-social-club/2029-04-20/
LOCATION:Pepys Community Hub\, Deptford Royal Dockyard\, Forshore\, London\, Greater London\, SE8 3BA\, United Kingdom
END:VEVENT
BEGIN:VEVENT
DTSTART;TZID=UTC:20290504T183000
DTEND;TZID=UTC:20290504T213000
DTSTAMP:20260420T031055
CREATED:20260221T143821Z
LAST-MODIFIED:20260221T143821Z
UID:10000083-1872613800-1872624600@socialitefriendships.com
SUMMARY:Socialites Social Club
DESCRIPTION:2026 SF Flyer a
URL:https://socialitefriendships.com/event-single/socialites-social-club/2029-05-04/
LOCATION:Pepys Community Hub\, Deptford Royal Dockyard\, Forshore\, London\, Greater London\, SE8 3BA\, United Kingdom
END:VEVENT
BEGIN:VEVENT
DTSTART;TZID=UTC:20290518T183000
DTEND;TZID=UTC:20290518T213000
DTSTAMP:20260420T031055
CREATED:20260221T143821Z
LAST-MODIFIED:20260221T143821Z
UID:10000084-1873823400-1873834200@socialitefriendships.com
SUMMARY:Socialites Social Club
DESCRIPTION:2026 SF Flyer a
URL:https://socialitefriendships.com/event-single/socialites-social-club/2029-05-18/
LOCATION:Pepys Community Hub\, Deptford Royal Dockyard\, Forshore\, London\, Greater London\, SE8 3BA\, United Kingdom
END:VEVENT
BEGIN:VEVENT
DTSTART;TZID=UTC:20290601T183000
DTEND;TZID=UTC:20290601T213000
DTSTAMP:20260420T031055
CREATED:20260221T143821Z
LAST-MODIFIED:20260221T143821Z
UID:10000085-1875033000-1875043800@socialitefriendships.com
SUMMARY:Socialites Social Club
DESCRIPTION:2026 SF Flyer a
URL:https://socialitefriendships.com/event-single/socialites-social-club/2029-06-01/
LOCATION:Pepys Community Hub\, Deptford Royal Dockyard\, Forshore\, London\, Greater London\, SE8 3BA\, United Kingdom
END:VEVENT
BEGIN:VEVENT
DTSTART;TZID=UTC:20290615T183000
DTEND;TZID=UTC:20290615T213000
DTSTAMP:20260420T031055
CREATED:20260221T143821Z
LAST-MODIFIED:20260221T143821Z
UID:10000086-1876242600-1876253400@socialitefriendships.com
SUMMARY:Socialites Social Club
DESCRIPTION:2026 SF Flyer a
URL:https://socialitefriendships.com/event-single/socialites-social-club/2029-06-15/
LOCATION:Pepys Community Hub\, Deptford Royal Dockyard\, Forshore\, London\, Greater London\, SE8 3BA\, United Kingdom
END:VEVENT
BEGIN:VEVENT
DTSTART;TZID=UTC:20290629T183000
DTEND;TZID=UTC:20290629T213000
DTSTAMP:20260420T031055
CREATED:20260221T143821Z
LAST-MODIFIED:20260221T143821Z
UID:10000087-1877452200-1877463000@socialitefriendships.com
SUMMARY:Socialites Social Club
DESCRIPTION:2026 SF Flyer a
URL:https://socialitefriendships.com/event-single/socialites-social-club/2029-06-29/
LOCATION:Pepys Community Hub\, Deptford Royal Dockyard\, Forshore\, London\, Greater London\, SE8 3BA\, United Kingdom
END:VEVENT
BEGIN:VEVENT
DTSTART;TZID=UTC:20290713T183000
DTEND;TZID=UTC:20290713T213000
DTSTAMP:20260420T031055
CREATED:20260221T143821Z
LAST-MODIFIED:20260221T143821Z
UID:10000088-1878661800-1878672600@socialitefriendships.com
SUMMARY:Socialites Social Club
DESCRIPTION:2026 SF Flyer a
URL:https://socialitefriendships.com/event-single/socialites-social-club/2029-07-13/
LOCATION:Pepys Community Hub\, Deptford Royal Dockyard\, Forshore\, London\, Greater London\, SE8 3BA\, United Kingdom
END:VEVENT
BEGIN:VEVENT
DTSTART;TZID=UTC:20290727T183000
DTEND;TZID=UTC:20290727T213000
DTSTAMP:20260420T031055
CREATED:20260221T143821Z
LAST-MODIFIED:20260221T143821Z
UID:10000089-1879871400-1879882200@socialitefriendships.com
SUMMARY:Socialites Social Club
DESCRIPTION:2026 SF Flyer a
URL:https://socialitefriendships.com/event-single/socialites-social-club/2029-07-27/
LOCATION:Pepys Community Hub\, Deptford Royal Dockyard\, Forshore\, London\, Greater London\, SE8 3BA\, United Kingdom
END:VEVENT
BEGIN:VEVENT
DTSTART;TZID=UTC:20290810T183000
DTEND;TZID=UTC:20290810T213000
DTSTAMP:20260420T031055
CREATED:20260221T143821Z
LAST-MODIFIED:20260221T143821Z
UID:10000090-1881081000-1881091800@socialitefriendships.com
SUMMARY:Socialites Social Club
DESCRIPTION:2026 SF Flyer a
URL:https://socialitefriendships.com/event-single/socialites-social-club/2029-08-10/
LOCATION:Pepys Community Hub\, Deptford Royal Dockyard\, Forshore\, London\, Greater London\, SE8 3BA\, United Kingdom
END:VEVENT
BEGIN:VEVENT
DTSTART;TZID=UTC:20290824T183000
DTEND;TZID=UTC:20290824T213000
DTSTAMP:20260420T031055
CREATED:20260221T143821Z
LAST-MODIFIED:20260221T143821Z
UID:10000091-1882290600-1882301400@socialitefriendships.com
SUMMARY:Socialites Social Club
DESCRIPTION:2026 SF Flyer a
URL:https://socialitefriendships.com/event-single/socialites-social-club/2029-08-24/
LOCATION:Pepys Community Hub\, Deptford Royal Dockyard\, Forshore\, London\, Greater London\, SE8 3BA\, United Kingdom
END:VEVENT
BEGIN:VEVENT
DTSTART;TZID=UTC:20290907T183000
DTEND;TZID=UTC:20290907T213000
DTSTAMP:20260420T031055
CREATED:20260221T143821Z
LAST-MODIFIED:20260221T143821Z
UID:10000092-1883500200-1883511000@socialitefriendships.com
SUMMARY:Socialites Social Club
DESCRIPTION:2026 SF Flyer a
URL:https://socialitefriendships.com/event-single/socialites-social-club/2029-09-07/
LOCATION:Pepys Community Hub\, Deptford Royal Dockyard\, Forshore\, London\, Greater London\, SE8 3BA\, United Kingdom
END:VEVENT
BEGIN:VEVENT
DTSTART;TZID=UTC:20290921T183000
DTEND;TZID=UTC:20290921T213000
DTSTAMP:20260420T031055
CREATED:20260221T143821Z
LAST-MODIFIED:20260221T143821Z
UID:10000093-1884709800-1884720600@socialitefriendships.com
SUMMARY:Socialites Social Club
DESCRIPTION:2026 SF Flyer a
URL:https://socialitefriendships.com/event-single/socialites-social-club/2029-09-21/
LOCATION:Pepys Community Hub\, Deptford Royal Dockyard\, Forshore\, London\, Greater London\, SE8 3BA\, United Kingdom
END:VEVENT
END:VCALENDAR