BEGIN:VCALENDAR
VERSION:2.0
PRODID:-//Socialite Friendship Society - ECPv6.15.20//NONSGML v1.0//EN
CALSCALE:GREGORIAN
METHOD:PUBLISH
X-WR-CALNAME:Socialite Friendship Society
X-ORIGINAL-URL:https://socialitefriendships.com
X-WR-CALDESC:Events for Socialite Friendship Society
REFRESH-INTERVAL;VALUE=DURATION:PT1H
X-Robots-Tag:noindex
X-PUBLISHED-TTL:PT1H
BEGIN:VTIMEZONE
TZID:UTC
BEGIN:STANDARD
TZOFFSETFROM:+0000
TZOFFSETTO:+0000
TZNAME:UTC
DTSTART:20250101T000000
END:STANDARD
END:VTIMEZONE
BEGIN:VEVENT
DTSTART;TZID=UTC:20261106T183000
DTEND;TZID=UTC:20261106T213000
DTSTAMP:20260420T002619
CREATED:20260221T143821Z
LAST-MODIFIED:20260221T143821Z
UID:10000018-1793989800-1794000600@socialitefriendships.com
SUMMARY:Socialites Social Club
DESCRIPTION:2026 SF Flyer a
URL:https://socialitefriendships.com/event-single/socialites-social-club/2026-11-06/
LOCATION:Pepys Community Hub\, Deptford Royal Dockyard\, Forshore\, London\, Greater London\, SE8 3BA\, United Kingdom
END:VEVENT
BEGIN:VEVENT
DTSTART;TZID=UTC:20261120T183000
DTEND;TZID=UTC:20261120T213000
DTSTAMP:20260420T002619
CREATED:20260221T143821Z
LAST-MODIFIED:20260221T143821Z
UID:10000019-1795199400-1795210200@socialitefriendships.com
SUMMARY:Socialites Social Club
DESCRIPTION:2026 SF Flyer a
URL:https://socialitefriendships.com/event-single/socialites-social-club/2026-11-20/
LOCATION:Pepys Community Hub\, Deptford Royal Dockyard\, Forshore\, London\, Greater London\, SE8 3BA\, United Kingdom
END:VEVENT
END:VCALENDAR